BEGIN:VCALENDAR
VERSION:2.0
PRODID:-//Florida Memorial University - ECPv6.15.20//NONSGML v1.0//EN
CALSCALE:GREGORIAN
METHOD:PUBLISH
X-ORIGINAL-URL:https://www.fmu.edu
X-WR-CALDESC:Events for Florida Memorial University
REFRESH-INTERVAL;VALUE=DURATION:PT1H
X-Robots-Tag:noindex
X-PUBLISHED-TTL:PT1H
BEGIN:VTIMEZONE
TZID:America/New_York
BEGIN:DAYLIGHT
TZOFFSETFROM:-0500
TZOFFSETTO:-0400
TZNAME:EDT
DTSTART:20240310T070000
END:DAYLIGHT
BEGIN:STANDARD
TZOFFSETFROM:-0400
TZOFFSETTO:-0500
TZNAME:EST
DTSTART:20241103T060000
END:STANDARD
BEGIN:DAYLIGHT
TZOFFSETFROM:-0500
TZOFFSETTO:-0400
TZNAME:EDT
DTSTART:20250309T070000
END:DAYLIGHT
BEGIN:STANDARD
TZOFFSETFROM:-0400
TZOFFSETTO:-0500
TZNAME:EST
DTSTART:20251102T060000
END:STANDARD
BEGIN:DAYLIGHT
TZOFFSETFROM:-0500
TZOFFSETTO:-0400
TZNAME:EDT
DTSTART:20260308T070000
END:DAYLIGHT
BEGIN:STANDARD
TZOFFSETFROM:-0400
TZOFFSETTO:-0500
TZNAME:EST
DTSTART:20261101T060000
END:STANDARD
END:VTIMEZONE
BEGIN:VEVENT
DTSTART;VALUE=DATE:20250428
DTEND;VALUE=DATE:20250504
DTSTAMP:20260425T123945
CREATED:20231127T185233Z
LAST-MODIFIED:20250106T211144Z
UID:12509-1745798400-1746316799@www.fmu.edu
SUMMARY:Finals Week (Required Class Meetings)(Spring Main Session & Spring B)
DESCRIPTION:
URL:https://www.fmu.edu/fmu-event/finals-week-main-session/
CATEGORIES:Academic Calendar
END:VEVENT
BEGIN:VEVENT
DTSTART;VALUE=DATE:20250503
DTEND;VALUE=DATE:20250504
DTSTAMP:20260425T123945
CREATED:20231127T185327Z
LAST-MODIFIED:20250106T212654Z
UID:12511-1746230400-1746316799@www.fmu.edu
SUMMARY:End of Term (Spring Main Session)
DESCRIPTION:
URL:https://www.fmu.edu/fmu-event/end-of-term-main-session/
CATEGORIES:Academic Calendar
END:VEVENT
BEGIN:VEVENT
DTSTART;VALUE=DATE:20250503
DTEND;VALUE=DATE:20250504
DTSTAMP:20260425T123945
CREATED:20231127T194919Z
LAST-MODIFIED:20250106T210434Z
UID:12560-1746230400-1746316799@www.fmu.edu
SUMMARY:Last Day of Classes (Spring B)
DESCRIPTION:
URL:https://www.fmu.edu/fmu-event/last-day-of-classes-spring-b/
CATEGORIES:Academic Calendar
END:VEVENT
BEGIN:VEVENT
DTSTART;TZID=America/New_York:20250503T080000
DTEND;TZID=America/New_York:20250503T140000
DTSTAMP:20260425T123945
CREATED:20250106T213405Z
LAST-MODIFIED:20250106T213416Z
UID:15838-1746259200-1746280800@www.fmu.edu
SUMMARY:Housing Move Out (Non-Graduating Students)
DESCRIPTION:
URL:https://www.fmu.edu/fmu-event/housing-move-out-non-graduating-students/
CATEGORIES:Academic Calendar
END:VEVENT
BEGIN:VEVENT
DTSTART;VALUE=DATE:20250506
DTEND;VALUE=DATE:20250507
DTSTAMP:20260425T123945
CREATED:20231127T190913Z
LAST-MODIFIED:20250106T211340Z
UID:12536-1746489600-1746575999@www.fmu.edu
SUMMARY:Deadline for Faculty to Submit Grades (Spring Main Session and Spring B)
DESCRIPTION:
URL:https://www.fmu.edu/fmu-event/deadline-for-faculty-to-submit-grades-session-b/
CATEGORIES:Academic Calendar
END:VEVENT
BEGIN:VEVENT
DTSTART;VALUE=DATE:20250507
DTEND;VALUE=DATE:20250508
DTSTAMP:20260425T123945
CREATED:20231127T190943Z
LAST-MODIFIED:20250106T210605Z
UID:12538-1746576000-1746662399@www.fmu.edu
SUMMARY:Grades available to students (Spring B)
DESCRIPTION:
URL:https://www.fmu.edu/fmu-event/grades-available-to-students-session-b/
CATEGORIES:Academic Calendar
END:VEVENT
BEGIN:VEVENT
DTSTART;TZID=America/New_York:20250510T080000
DTEND;TZID=America/New_York:20250510T120000
DTSTAMP:20260425T123945
CREATED:20231127T185540Z
LAST-MODIFIED:20250328T204234Z
UID:12516-1746864000-1746878400@www.fmu.edu
SUMMARY:Commencement
DESCRIPTION:
URL:https://www.fmu.edu/fmu-event/commencement-2/
CATEGORIES:Academic Calendar
ATTACH;FMTTYPE=image/jpeg:https://www.fmu.edu/wp-content/uploads/2025/03/Commencement-2025_1920x1080.jpg
END:VEVENT
BEGIN:VEVENT
DTSTART;TZID=America/New_York:20250511T080000
DTEND;TZID=America/New_York:20250511T140000
DTSTAMP:20260425T123945
CREATED:20250106T213531Z
LAST-MODIFIED:20250106T213542Z
UID:15840-1746950400-1746972000@www.fmu.edu
SUMMARY:Housing Move Out (Graduating Students)
DESCRIPTION:
URL:https://www.fmu.edu/fmu-event/housing-move-out-graduating-students/
CATEGORIES:Academic Calendar
END:VEVENT
BEGIN:VEVENT
DTSTART;VALUE=DATE:20250519
DTEND;VALUE=DATE:20250520
DTSTAMP:20260425T123945
CREATED:20231127T204533Z
LAST-MODIFIED:20250520T190457Z
UID:12581-1747612800-1747699199@www.fmu.edu
SUMMARY:Classes Start (Summer A\, Summer C & Gradate Programs)
DESCRIPTION:
URL:https://www.fmu.edu/fmu-event/classes-start-summer-a-c/
CATEGORIES:Academic Calendar
END:VEVENT
BEGIN:VEVENT
DTSTART;VALUE=DATE:20250523
DTEND;VALUE=DATE:20250524
DTSTAMP:20260425T123945
CREATED:20231127T204607Z
LAST-MODIFIED:20250520T190331Z
UID:12583-1747958400-1748044799@www.fmu.edu
SUMMARY:Last Day to Add/Drop (Summer A\, Summer C & Gradate Programs)
DESCRIPTION:
URL:https://www.fmu.edu/fmu-event/last-day-to-add-drop-summer-a-c/
CATEGORIES:Academic Calendar
END:VEVENT
BEGIN:VEVENT
DTSTART;VALUE=DATE:20250526
DTEND;VALUE=DATE:20250527
DTSTAMP:20260425T123945
CREATED:20231127T204645Z
LAST-MODIFIED:20250519T204153Z
UID:12585-1748217600-1748303999@www.fmu.edu
SUMMARY:Memorial Day (No Classes)
DESCRIPTION:
URL:https://www.fmu.edu/fmu-event/memorial-day-no-classes-2/
CATEGORIES:Academic Calendar
END:VEVENT
BEGIN:VEVENT
DTSTART;VALUE=DATE:20250530
DTEND;VALUE=DATE:20250531
DTSTAMP:20260425T123945
CREATED:20231127T204730Z
LAST-MODIFIED:20250520T190115Z
UID:12587-1748563200-1748649599@www.fmu.edu
SUMMARY:Last Day to Drop with WP/WF Grade (Summer A)
DESCRIPTION:
URL:https://www.fmu.edu/fmu-event/last-day-to-drop-with-wp-wf-grade-summer-a/
CATEGORIES:Academic Calendar
END:VEVENT
END:VCALENDAR