BEGIN:VCALENDAR
VERSION:2.0
PRODID:-//Florida Memorial University - ECPv6.15.20//NONSGML v1.0//EN
CALSCALE:GREGORIAN
METHOD:PUBLISH
X-WR-CALNAME:Florida Memorial University
X-ORIGINAL-URL:https://www.fmu.edu
X-WR-CALDESC:Events for Florida Memorial University
REFRESH-INTERVAL;VALUE=DURATION:PT1H
X-Robots-Tag:noindex
X-PUBLISHED-TTL:PT1H
BEGIN:VTIMEZONE
TZID:America/New_York
BEGIN:DAYLIGHT
TZOFFSETFROM:-0500
TZOFFSETTO:-0400
TZNAME:EDT
DTSTART:20240310T070000
END:DAYLIGHT
BEGIN:STANDARD
TZOFFSETFROM:-0400
TZOFFSETTO:-0500
TZNAME:EST
DTSTART:20241103T060000
END:STANDARD
BEGIN:DAYLIGHT
TZOFFSETFROM:-0500
TZOFFSETTO:-0400
TZNAME:EDT
DTSTART:20250309T070000
END:DAYLIGHT
BEGIN:STANDARD
TZOFFSETFROM:-0400
TZOFFSETTO:-0500
TZNAME:EST
DTSTART:20251102T060000
END:STANDARD
BEGIN:DAYLIGHT
TZOFFSETFROM:-0500
TZOFFSETTO:-0400
TZNAME:EDT
DTSTART:20260308T070000
END:DAYLIGHT
BEGIN:STANDARD
TZOFFSETFROM:-0400
TZOFFSETTO:-0500
TZNAME:EST
DTSTART:20261101T060000
END:STANDARD
END:VTIMEZONE
BEGIN:VEVENT
DTSTART;VALUE=DATE:20251006
DTEND;VALUE=DATE:20251012
DTSTAMP:20260420T215815
CREATED:20250528T201255Z
LAST-MODIFIED:20250528T201255Z
UID:19428-1759708800-1760227199@www.fmu.edu
SUMMARY:Mid Term Exams (Fall Main Session)
DESCRIPTION:
URL:https://www.fmu.edu/fmu-event/mid-term-exams-fall-main-session/
CATEGORIES:Academic Calendar
END:VEVENT
BEGIN:VEVENT
DTSTART;VALUE=DATE:20251006
DTEND;VALUE=DATE:20251012
DTSTAMP:20260420T215815
CREATED:20250528T203016Z
LAST-MODIFIED:20250528T203016Z
UID:19465-1759708800-1760227199@www.fmu.edu
SUMMARY:Finals Week (Required Class Meetings) (Fall A)
DESCRIPTION:
URL:https://www.fmu.edu/fmu-event/finals-week-required-class-meetings-fall-a/
CATEGORIES:Academic Calendar
END:VEVENT
BEGIN:VEVENT
DTSTART;VALUE=DATE:20251011
DTEND;VALUE=DATE:20251012
DTSTAMP:20260420T215815
CREATED:20250528T202450Z
LAST-MODIFIED:20250528T202450Z
UID:19453-1760140800-1760227199@www.fmu.edu
SUMMARY:End of Session A
DESCRIPTION:
URL:https://www.fmu.edu/fmu-event/end-of-session-a/
CATEGORIES:Academic Calendar
END:VEVENT
BEGIN:VEVENT
DTSTART;VALUE=DATE:20251013
DTEND;VALUE=DATE:20251014
DTSTAMP:20260420T215815
CREATED:20250528T200852Z
LAST-MODIFIED:20250528T200902Z
UID:19419-1760313600-1760399999@www.fmu.edu
SUMMARY:Classes Begin (Fall B)
DESCRIPTION:
URL:https://www.fmu.edu/fmu-event/classes-begin-fall-b/
CATEGORIES:Academic Calendar
END:VEVENT
BEGIN:VEVENT
DTSTART;VALUE=DATE:20251015
DTEND;VALUE=DATE:20251016
DTSTAMP:20260420T215815
CREATED:20231127T195958Z
LAST-MODIFIED:20250528T195704Z
UID:12571-1760486400-1760572799@www.fmu.edu
SUMMARY:Deadline for Faculty to Submit Grades (Fall A)
DESCRIPTION:
URL:https://www.fmu.edu/fmu-event/deadline-for-faculty-to-submit-grades/
CATEGORIES:Academic Calendar
END:VEVENT
BEGIN:VEVENT
DTSTART;VALUE=DATE:20251015
DTEND;VALUE=DATE:20251016
DTSTAMP:20260420T215815
CREATED:20250528T201625Z
LAST-MODIFIED:20250528T201625Z
UID:19436-1760486400-1760572799@www.fmu.edu
SUMMARY:Graduation Application for Fall 2025
DESCRIPTION:
URL:https://www.fmu.edu/fmu-event/graduation-application-for-fall-2025/
CATEGORIES:Academic Calendar
END:VEVENT
BEGIN:VEVENT
DTSTART;VALUE=DATE:20251016
DTEND;VALUE=DATE:20251017
DTSTAMP:20260420T215815
CREATED:20250528T203104Z
LAST-MODIFIED:20250528T203206Z
UID:19467-1760572800-1760659199@www.fmu.edu
SUMMARY:Grades Available to Students (Fall A)
DESCRIPTION:
URL:https://www.fmu.edu/fmu-event/grades-available-to-students-fall-a/
CATEGORIES:Academic Calendar
END:VEVENT
BEGIN:VEVENT
DTSTART;VALUE=DATE:20251020
DTEND;VALUE=DATE:20251021
DTSTAMP:20260420T215815
CREATED:20250528T201720Z
LAST-MODIFIED:20250528T201720Z
UID:19438-1760918400-1761004799@www.fmu.edu
SUMMARY:Early Registration Begins for Spring and Summer 2026
DESCRIPTION:
URL:https://www.fmu.edu/fmu-event/early-registration-begins-for-spring-and-summer-2026/
CATEGORIES:Academic Calendar
END:VEVENT
BEGIN:VEVENT
DTSTART;VALUE=DATE:20251020
DTEND;VALUE=DATE:20251021
DTSTAMP:20260420T215815
CREATED:20250528T201806Z
LAST-MODIFIED:20250528T201843Z
UID:19440-1760918400-1761004799@www.fmu.edu
SUMMARY:Last Day to Add/Drop with a WP/WF Grade (Fall Main Session)
DESCRIPTION:
URL:https://www.fmu.edu/fmu-event/last-day-to-add-drop-with-a-wp-wf-grade/
CATEGORIES:Academic Calendar
END:VEVENT
END:VCALENDAR