BEGIN:VCALENDAR
VERSION:2.0
PRODID:-//Florida Memorial University - ECPv6.15.20//NONSGML v1.0//EN
CALSCALE:GREGORIAN
METHOD:PUBLISH
X-ORIGINAL-URL:https://www.fmu.edu
X-WR-CALDESC:Events for Florida Memorial University
REFRESH-INTERVAL;VALUE=DURATION:PT1H
X-Robots-Tag:noindex
X-PUBLISHED-TTL:PT1H
BEGIN:VTIMEZONE
TZID:America/New_York
BEGIN:DAYLIGHT
TZOFFSETFROM:-0500
TZOFFSETTO:-0400
TZNAME:EDT
DTSTART:20240310T070000
END:DAYLIGHT
BEGIN:STANDARD
TZOFFSETFROM:-0400
TZOFFSETTO:-0500
TZNAME:EST
DTSTART:20241103T060000
END:STANDARD
BEGIN:DAYLIGHT
TZOFFSETFROM:-0500
TZOFFSETTO:-0400
TZNAME:EDT
DTSTART:20250309T070000
END:DAYLIGHT
BEGIN:STANDARD
TZOFFSETFROM:-0400
TZOFFSETTO:-0500
TZNAME:EST
DTSTART:20251102T060000
END:STANDARD
BEGIN:DAYLIGHT
TZOFFSETFROM:-0500
TZOFFSETTO:-0400
TZNAME:EDT
DTSTART:20260308T070000
END:DAYLIGHT
BEGIN:STANDARD
TZOFFSETFROM:-0400
TZOFFSETTO:-0500
TZNAME:EST
DTSTART:20261101T060000
END:STANDARD
END:VTIMEZONE
BEGIN:VEVENT
DTSTART;VALUE=DATE:20251103
DTEND;VALUE=DATE:20251104
DTSTAMP:20260420T201730
CREATED:20231127T195742Z
LAST-MODIFIED:20250528T200148Z
UID:12566-1762128000-1762214399@www.fmu.edu
SUMMARY:Last Day Drop with WP/WF Grade (Fall B)
DESCRIPTION:
URL:https://www.fmu.edu/fmu-event/last-day-drop-with-wp-wf-grade-fall-b/
CATEGORIES:Academic Calendar
END:VEVENT
BEGIN:VEVENT
DTSTART;VALUE=DATE:20251111
DTEND;VALUE=DATE:20251112
DTSTAMP:20260420T201730
CREATED:20221215T153859Z
LAST-MODIFIED:20250528T195539Z
UID:10822-1762819200-1762905599@www.fmu.edu
SUMMARY:Veterans Day (No Classes)
DESCRIPTION:
URL:https://www.fmu.edu/fmu-event/veterans-day-no-classes/
CATEGORIES:Academic Calendar
END:VEVENT
BEGIN:VEVENT
DTSTART;VALUE=DATE:20251114
DTEND;VALUE=DATE:20251115
DTSTAMP:20260420T201730
CREATED:20250528T202054Z
LAST-MODIFIED:20250528T202054Z
UID:19445-1763078400-1763164799@www.fmu.edu
SUMMARY:Last Day to Withdraw Officially from the Semester/University (Fall Main Session)
DESCRIPTION:
URL:https://www.fmu.edu/fmu-event/last-day-to-withdraw-officially-from-the-semester-university-fall-main-session/
CATEGORIES:Academic Calendar
END:VEVENT
BEGIN:VEVENT
DTSTART;VALUE=DATE:20251117
DTEND;VALUE=DATE:20251207
DTSTAMP:20260420T201730
CREATED:20250528T202214Z
LAST-MODIFIED:20250528T202214Z
UID:19447-1763337600-1765065599@www.fmu.edu
SUMMARY:Faculty Course Evaluation Period (Fall Main Session)
DESCRIPTION:
URL:https://www.fmu.edu/fmu-event/faculty-course-evaluation-period-fall-main-session/
CATEGORIES:Academic Calendar
END:VEVENT
BEGIN:VEVENT
DTSTART;VALUE=DATE:20251124
DTEND;VALUE=DATE:20251130
DTSTAMP:20260420T201730
CREATED:20221215T154006Z
LAST-MODIFIED:20250528T194856Z
UID:10824-1763942400-1764460799@www.fmu.edu
SUMMARY:Thanksgiving Holiday Break (No Classes)
DESCRIPTION:
URL:https://www.fmu.edu/fmu-event/thanksgiving-holiday-break-no-classes/
CATEGORIES:Academic Calendar
END:VEVENT
END:VCALENDAR