BEGIN:VCALENDAR
VERSION:2.0
PRODID:-//Florida Memorial University - ECPv6.15.20//NONSGML v1.0//EN
CALSCALE:GREGORIAN
METHOD:PUBLISH
X-WR-CALNAME:Florida Memorial University
X-ORIGINAL-URL:https://www.fmu.edu
X-WR-CALDESC:Events for Florida Memorial University
REFRESH-INTERVAL;VALUE=DURATION:PT1H
X-Robots-Tag:noindex
X-PUBLISHED-TTL:PT1H
BEGIN:VTIMEZONE
TZID:America/New_York
BEGIN:DAYLIGHT
TZOFFSETFROM:-0500
TZOFFSETTO:-0400
TZNAME:EDT
DTSTART:20240310T070000
END:DAYLIGHT
BEGIN:STANDARD
TZOFFSETFROM:-0400
TZOFFSETTO:-0500
TZNAME:EST
DTSTART:20241103T060000
END:STANDARD
BEGIN:DAYLIGHT
TZOFFSETFROM:-0500
TZOFFSETTO:-0400
TZNAME:EDT
DTSTART:20250309T070000
END:DAYLIGHT
BEGIN:STANDARD
TZOFFSETFROM:-0400
TZOFFSETTO:-0500
TZNAME:EST
DTSTART:20251102T060000
END:STANDARD
BEGIN:DAYLIGHT
TZOFFSETFROM:-0500
TZOFFSETTO:-0400
TZNAME:EDT
DTSTART:20260308T070000
END:DAYLIGHT
BEGIN:STANDARD
TZOFFSETFROM:-0400
TZOFFSETTO:-0500
TZNAME:EST
DTSTART:20261101T060000
END:STANDARD
END:VTIMEZONE
BEGIN:VEVENT
DTSTART;VALUE=DATE:20250428
DTEND;VALUE=DATE:20250504
DTSTAMP:20260425T142054
CREATED:20231127T185233Z
LAST-MODIFIED:20250106T211144Z
UID:12509-1745798400-1746316799@www.fmu.edu
SUMMARY:Finals Week (Required Class Meetings)(Spring Main Session & Spring B)
DESCRIPTION:
URL:https://www.fmu.edu/fmu-event/finals-week-main-session/
CATEGORIES:Academic Calendar
END:VEVENT
BEGIN:VEVENT
DTSTART;VALUE=DATE:20250503
DTEND;VALUE=DATE:20250504
DTSTAMP:20260425T142054
CREATED:20231127T185327Z
LAST-MODIFIED:20250106T212654Z
UID:12511-1746230400-1746316799@www.fmu.edu
SUMMARY:End of Term (Spring Main Session)
DESCRIPTION:
URL:https://www.fmu.edu/fmu-event/end-of-term-main-session/
CATEGORIES:Academic Calendar
END:VEVENT
BEGIN:VEVENT
DTSTART;VALUE=DATE:20250503
DTEND;VALUE=DATE:20250504
DTSTAMP:20260425T142054
CREATED:20231127T194919Z
LAST-MODIFIED:20250106T210434Z
UID:12560-1746230400-1746316799@www.fmu.edu
SUMMARY:Last Day of Classes (Spring B)
DESCRIPTION:
URL:https://www.fmu.edu/fmu-event/last-day-of-classes-spring-b/
CATEGORIES:Academic Calendar
END:VEVENT
BEGIN:VEVENT
DTSTART;TZID=America/New_York:20250503T080000
DTEND;TZID=America/New_York:20250503T140000
DTSTAMP:20260425T142054
CREATED:20250106T213405Z
LAST-MODIFIED:20250106T213416Z
UID:15838-1746259200-1746280800@www.fmu.edu
SUMMARY:Housing Move Out (Non-Graduating Students)
DESCRIPTION:
URL:https://www.fmu.edu/fmu-event/housing-move-out-non-graduating-students/
CATEGORIES:Academic Calendar
END:VEVENT
END:VCALENDAR