BEGIN:VCALENDAR
VERSION:2.0
PRODID:-//Florida Memorial University - ECPv6.15.20//NONSGML v1.0//EN
CALSCALE:GREGORIAN
METHOD:PUBLISH
X-WR-CALNAME:Florida Memorial University
X-ORIGINAL-URL:https://www.fmu.edu
X-WR-CALDESC:Events for Florida Memorial University
REFRESH-INTERVAL;VALUE=DURATION:PT1H
X-Robots-Tag:noindex
X-PUBLISHED-TTL:PT1H
BEGIN:VTIMEZONE
TZID:America/New_York
BEGIN:DAYLIGHT
TZOFFSETFROM:-0500
TZOFFSETTO:-0400
TZNAME:EDT
DTSTART:20240310T070000
END:DAYLIGHT
BEGIN:STANDARD
TZOFFSETFROM:-0400
TZOFFSETTO:-0500
TZNAME:EST
DTSTART:20241103T060000
END:STANDARD
BEGIN:DAYLIGHT
TZOFFSETFROM:-0500
TZOFFSETTO:-0400
TZNAME:EDT
DTSTART:20250309T070000
END:DAYLIGHT
BEGIN:STANDARD
TZOFFSETFROM:-0400
TZOFFSETTO:-0500
TZNAME:EST
DTSTART:20251102T060000
END:STANDARD
BEGIN:DAYLIGHT
TZOFFSETFROM:-0500
TZOFFSETTO:-0400
TZNAME:EDT
DTSTART:20260308T070000
END:DAYLIGHT
BEGIN:STANDARD
TZOFFSETFROM:-0400
TZOFFSETTO:-0500
TZNAME:EST
DTSTART:20261101T060000
END:STANDARD
END:VTIMEZONE
BEGIN:VEVENT
DTSTART;VALUE=DATE:20250616
DTEND;VALUE=DATE:20250622
DTSTAMP:20260425T124049
CREATED:20250520T191642Z
LAST-MODIFIED:20250520T191642Z
UID:18637-1750032000-1750550399@www.fmu.edu
SUMMARY:Finals Week (Required Class Meetings)(Summer A)
DESCRIPTION:
URL:https://www.fmu.edu/fmu-event/finals-week-required-class-meetingssummer-a/
CATEGORIES:Academic Calendar
END:VEVENT
BEGIN:VEVENT
DTSTART;VALUE=DATE:20250619
DTEND;VALUE=DATE:20250620
DTSTAMP:20260425T124049
CREATED:20231127T205510Z
LAST-MODIFIED:20250519T204240Z
UID:12603-1750291200-1750377599@www.fmu.edu
SUMMARY:Juneteenth Holiday (No Classes)
DESCRIPTION:
URL:https://www.fmu.edu/fmu-event/juneteenth-holiday-no-classes/
CATEGORIES:Academic Calendar
END:VEVENT
BEGIN:VEVENT
DTSTART;VALUE=DATE:20250619
DTEND;VALUE=DATE:20250620
DTSTAMP:20260425T124049
CREATED:20250106T213133Z
LAST-MODIFIED:20250520T191052Z
UID:15834-1750291200-1750377599@www.fmu.edu
SUMMARY:Housing Move In (New Students)
DESCRIPTION:
URL:https://www.fmu.edu/fmu-event/housing-move-in-new-students/
CATEGORIES:Academic Calendar
END:VEVENT
END:VCALENDAR