BEGIN:VCALENDAR
VERSION:2.0
PRODID:-//Florida Memorial University - ECPv6.15.20//NONSGML v1.0//EN
CALSCALE:GREGORIAN
METHOD:PUBLISH
X-WR-CALNAME:Florida Memorial University
X-ORIGINAL-URL:https://www.fmu.edu
X-WR-CALDESC:Events for Florida Memorial University
REFRESH-INTERVAL;VALUE=DURATION:PT1H
X-Robots-Tag:noindex
X-PUBLISHED-TTL:PT1H
BEGIN:VTIMEZONE
TZID:America/New_York
BEGIN:DAYLIGHT
TZOFFSETFROM:-0500
TZOFFSETTO:-0400
TZNAME:EDT
DTSTART:20240310T070000
END:DAYLIGHT
BEGIN:STANDARD
TZOFFSETFROM:-0400
TZOFFSETTO:-0500
TZNAME:EST
DTSTART:20241103T060000
END:STANDARD
BEGIN:DAYLIGHT
TZOFFSETFROM:-0500
TZOFFSETTO:-0400
TZNAME:EDT
DTSTART:20250309T070000
END:DAYLIGHT
BEGIN:STANDARD
TZOFFSETFROM:-0400
TZOFFSETTO:-0500
TZNAME:EST
DTSTART:20251102T060000
END:STANDARD
BEGIN:DAYLIGHT
TZOFFSETFROM:-0500
TZOFFSETTO:-0400
TZNAME:EDT
DTSTART:20260308T070000
END:DAYLIGHT
BEGIN:STANDARD
TZOFFSETFROM:-0400
TZOFFSETTO:-0500
TZNAME:EST
DTSTART:20261101T060000
END:STANDARD
END:VTIMEZONE
BEGIN:VEVENT
DTSTART;VALUE=DATE:20250301
DTEND;VALUE=DATE:20250302
DTSTAMP:20260421T030352
CREATED:20231127T185822Z
LAST-MODIFIED:20250106T211839Z
UID:12520-1740787200-1740873599@www.fmu.edu
SUMMARY:Last Day of Classes (Spring A)
DESCRIPTION:
URL:https://www.fmu.edu/fmu-event/last-day-of-classes-session-a/
CATEGORIES:Academic Calendar
END:VEVENT
BEGIN:VEVENT
DTSTART;VALUE=DATE:20250224
DTEND;VALUE=DATE:20250302
DTSTAMP:20260421T030352
CREATED:20231127T190154Z
LAST-MODIFIED:20250106T212134Z
UID:12522-1740355200-1740873599@www.fmu.edu
SUMMARY:Finals Week (required class meetings)(Spring A)
DESCRIPTION:
URL:https://www.fmu.edu/fmu-event/day-exam-week-session-a/
CATEGORIES:Academic Calendar
END:VEVENT
BEGIN:VEVENT
DTSTART;VALUE=DATE:20250224
DTEND;VALUE=DATE:20250302
DTSTAMP:20260421T030352
CREATED:20231127T183648Z
LAST-MODIFIED:20250106T205055Z
UID:12490-1740355200-1740873599@www.fmu.edu
SUMMARY:Mid-terms (Main Session)
DESCRIPTION:
URL:https://www.fmu.edu/fmu-event/mid-terms/
CATEGORIES:Academic Calendar
END:VEVENT
BEGIN:VEVENT
DTSTART;VALUE=DATE:20250120
DTEND;VALUE=DATE:20250121
DTSTAMP:20260421T030352
CREATED:20231127T183542Z
LAST-MODIFIED:20250106T204701Z
UID:12486-1737331200-1737417599@www.fmu.edu
SUMMARY:Martin Luther King Day (No classes)
DESCRIPTION:
URL:https://www.fmu.edu/fmu-event/martin-luther-king-day-no-classes/
CATEGORIES:Academic Calendar
END:VEVENT
BEGIN:VEVENT
DTSTART;VALUE=DATE:20250114
DTEND;VALUE=DATE:20250115
DTSTAMP:20260421T030352
CREATED:20231127T183610Z
LAST-MODIFIED:20250106T204443Z
UID:12488-1736812800-1736899199@www.fmu.edu
SUMMARY:Last Day to Add/Drop (Main Session & Spring A)
DESCRIPTION:
URL:https://www.fmu.edu/fmu-event/last-day-to-add-drop/
CATEGORIES:Academic Calendar
END:VEVENT
BEGIN:VEVENT
DTSTART;VALUE=DATE:20250106
DTEND;VALUE=DATE:20250107
DTSTAMP:20260421T030352
CREATED:20231127T183419Z
LAST-MODIFIED:20250106T213828Z
UID:12484-1736121600-1736207999@www.fmu.edu
SUMMARY:Classes Start (Spring Main Session & Spring A)
DESCRIPTION:
URL:https://www.fmu.edu/fmu-event/classes-start/
CATEGORIES:Academic Calendar
END:VEVENT
END:VCALENDAR