BEGIN:VCALENDAR
VERSION:2.0
PRODID:-//Florida Memorial University - ECPv6.15.20//NONSGML v1.0//EN
CALSCALE:GREGORIAN
METHOD:PUBLISH
X-ORIGINAL-URL:https://www.fmu.edu
X-WR-CALDESC:Events for Florida Memorial University
REFRESH-INTERVAL;VALUE=DURATION:PT1H
X-Robots-Tag:noindex
X-PUBLISHED-TTL:PT1H
BEGIN:VTIMEZONE
TZID:America/New_York
BEGIN:DAYLIGHT
TZOFFSETFROM:-0500
TZOFFSETTO:-0400
TZNAME:EDT
DTSTART:20240310T070000
END:DAYLIGHT
BEGIN:STANDARD
TZOFFSETFROM:-0400
TZOFFSETTO:-0500
TZNAME:EST
DTSTART:20241103T060000
END:STANDARD
BEGIN:DAYLIGHT
TZOFFSETFROM:-0500
TZOFFSETTO:-0400
TZNAME:EDT
DTSTART:20250309T070000
END:DAYLIGHT
BEGIN:STANDARD
TZOFFSETFROM:-0400
TZOFFSETTO:-0500
TZNAME:EST
DTSTART:20251102T060000
END:STANDARD
BEGIN:DAYLIGHT
TZOFFSETFROM:-0500
TZOFFSETTO:-0400
TZNAME:EDT
DTSTART:20260308T070000
END:DAYLIGHT
BEGIN:STANDARD
TZOFFSETFROM:-0400
TZOFFSETTO:-0500
TZNAME:EST
DTSTART:20261101T060000
END:STANDARD
END:VTIMEZONE
BEGIN:VEVENT
DTSTART;VALUE=DATE:20250228
DTEND;VALUE=DATE:20250302
DTSTAMP:20260419T132048
CREATED:20250130T204855Z
LAST-MODIFIED:20250130T204855Z
UID:16558-1740700800-1740873599@www.fmu.edu
SUMMARY:The Black Wealth Summit featuring Ted Lucas
DESCRIPTION:An engaging summit focusing on economic empowerment and wealth   building strategies for Black communities.
URL:https://www.fmu.edu/fmu-event/the-black-wealth-summit-featuring-ted-lucas/
LOCATION:Florida Memorial University\, 15800 NW 42nd Ave.\, Miami Gardens\, 33054\, United States
CATEGORIES:Black History Month
END:VEVENT
BEGIN:VEVENT
DTSTART;TZID=America/New_York:20250227T110000
DTEND;TZID=America/New_York:20250227T120000
DTSTAMP:20260419T132048
CREATED:20250130T204725Z
LAST-MODIFIED:20250130T210851Z
UID:16556-1740654000-1740657600@www.fmu.edu
SUMMARY:Blacks and Labor: The Role of African American Women in Labor Movements
DESCRIPTION:Library Services will host Guest Speaker Dr. Cynthia Smith. \nAn inspiring speaking and book signing event centered on education and entrepreneurship. Her books Black Boys II Black Men\, Minds of the Future Academy\, and The Educated Entrepreneur will be available for purchase.
URL:https://www.fmu.edu/fmu-event/blacks-and-labor-the-role-of-african-american-women-in-labor-movements/
LOCATION:Nathan W. Collier Library
CATEGORIES:Black History Month
END:VEVENT
BEGIN:VEVENT
DTSTART;TZID=America/New_York:20250225T090000
DTEND;TZID=America/New_York:20250225T160000
DTSTAMP:20260419T132048
CREATED:20250130T205816Z
LAST-MODIFIED:20250130T210607Z
UID:16570-1740474000-1740499200@www.fmu.edu
SUMMARY:Empowerment Through Education: Black History Scholarship Tuesday
DESCRIPTION:Join us every Tuesday in February to explore scholarship opportunities that celebrate and support Black excellence and education powered by the United Negro College Fund. \nUNCF is the nation’s largest and most effective minority education organization and has raised billions to help more than 500\,000 students to earn their college degrees through scholarships over the past 70 years. \nThere are four scholarship application sites on campus\, and these general scholarships are open to all undergraduate students pursuing academic excellence here at FMU. \nHere are the locations of the application sites. \n\nWriting Lab\, Sarah Blocker Building\, Room 101\nMath Lab\, Sarah Blocker Building\, Room 102\nTesting Lab\, Sarah Blocker Building\, Room 105\nStudent Career Center\, William Lehman Aviation Building\, Room 107\n\nClick Here to apply now
URL:https://www.fmu.edu/fmu-event/empowerment-through-education-black-history-scholarship-tuesday-4/
LOCATION:Florida Memorial University\, 15800 NW 42nd Ave.\, Miami Gardens\, 33054\, United States
CATEGORIES:Black History Month
ATTACH;FMTTYPE=image/jpeg:https://www.fmu.edu/wp-content/uploads/2025/01/Scholarship-Tuesdays.jpg
END:VEVENT
BEGIN:VEVENT
DTSTART;TZID=America/New_York:20250223T130000
DTEND;TZID=America/New_York:20250223T143000
DTSTAMP:20260419T132048
CREATED:20250130T204622Z
LAST-MODIFIED:20250203T155001Z
UID:16554-1740315600-1740321000@www.fmu.edu
SUMMARY:BHM 2025 Worship Service
DESCRIPTION:Join us as we continue Black History Month with a soulful worship service honoring our heritage.
URL:https://www.fmu.edu/fmu-event/bhm-2025-worship-service-3/
LOCATION:Susie C. Holley Religious Center\, 15800 NW 42 Avenue\, Miami Gardens\, FL\, 33054\, United States
CATEGORIES:Black History Month
ATTACH;FMTTYPE=image/jpeg:https://www.fmu.edu/wp-content/uploads/2025/01/Campus-Ministries_WEB.jpg
END:VEVENT
BEGIN:VEVENT
DTSTART;TZID=America/New_York:20250222T200000
DTEND;TZID=America/New_York:20250222T220000
DTSTAMP:20260419T132048
CREATED:20250130T204526Z
LAST-MODIFIED:20250130T204526Z
UID:16551-1740254400-1740261600@www.fmu.edu
SUMMARY:Ambassador Chorale Two-Hour Performance
DESCRIPTION:Experience the inspiring melodies of the Ambassador Chorale.
URL:https://www.fmu.edu/fmu-event/ambassador-chorale-two-hour-performance/
LOCATION:Miami Lakes Methodist Church\, 14800 Ludlam Road\, Miami Lakes\, FL\, 33014\, United States
CATEGORIES:Black History Month
END:VEVENT
BEGIN:VEVENT
DTSTART;TZID=America/New_York:20250221T130000
DTEND;TZID=America/New_York:20250221T170000
DTSTAMP:20260419T132048
CREATED:20250125T025053Z
LAST-MODIFIED:20250130T204329Z
UID:16310-1740142800-1740157200@www.fmu.edu
SUMMARY:FMU’s 11th Annual F.L.I.R.T Symposium: Moderated by Dr. Rose Mary Stiffin
DESCRIPTION:Former Lions with Health & Sciences degrees discuss their career path to success with current students and faculty.
URL:https://www.fmu.edu/fmu-event/flirt-conference/
LOCATION:FMU Auditorium
CATEGORIES:Black History Month
END:VEVENT
BEGIN:VEVENT
DTSTART;TZID=America/New_York:20250220T134000
DTEND;TZID=America/New_York:20250220T150000
DTSTAMP:20260419T132048
CREATED:20250130T204145Z
LAST-MODIFIED:20250130T204145Z
UID:16548-1740058800-1740063600@www.fmu.edu
SUMMARY:Minding Mental Health
DESCRIPTION:A powerful conversation on mental health and wellness in the Black community.
URL:https://www.fmu.edu/fmu-event/minding-mental-health/
LOCATION:Lehman Auditorium
CATEGORIES:Black History Month
END:VEVENT
BEGIN:VEVENT
DTSTART;TZID=America/New_York:20250219T190000
DTEND;TZID=America/New_York:20250219T213000
DTSTAMP:20260419T132048
CREATED:20250130T204029Z
LAST-MODIFIED:20250130T204029Z
UID:16546-1739991600-1740000600@www.fmu.edu
SUMMARY:Black on the Block: A Special Screening of Do the Right Thing
DESCRIPTION:Relax and reflect with a thought-provoking film celebrating Black stories.
URL:https://www.fmu.edu/fmu-event/black-on-the-block-a-special-screening-of-do-the-right-thing/
LOCATION:FMU Auditorium
CATEGORIES:Black History Month
END:VEVENT
BEGIN:VEVENT
DTSTART;TZID=America/New_York:20250218T090000
DTEND;TZID=America/New_York:20250218T160000
DTSTAMP:20260419T132048
CREATED:20250130T205659Z
LAST-MODIFIED:20250130T210539Z
UID:16567-1739869200-1739894400@www.fmu.edu
SUMMARY:Empowerment Through Education: Black History Scholarship Tuesday
DESCRIPTION:Join us every Tuesday in February to explore scholarship opportunities that celebrate and support Black excellence and education powered by the United Negro College Fund. \nUNCF is the nation’s largest and most effective minority education organization and has raised billions to help more than 500\,000 students to earn their college degrees through scholarships over the past 70 years. \nThere are four scholarship application sites on campus\, and these general scholarships are open to all undergraduate students pursuing academic excellence here at FMU. \nHere are the locations of the application sites. \n\nWriting Lab\, Sarah Blocker Building\, Room 101\nMath Lab\, Sarah Blocker Building\, Room 102\nTesting Lab\, Sarah Blocker Building\, Room 105\nStudent Career Center\, William Lehman Aviation Building\, Room 107\n\nClick Here to apply now
URL:https://www.fmu.edu/fmu-event/empowerment-through-education-black-history-scholarship-tuesday-3/
LOCATION:Florida Memorial University\, 15800 NW 42nd Ave.\, Miami Gardens\, 33054\, United States
CATEGORIES:Black History Month
ATTACH;FMTTYPE=image/jpeg:https://www.fmu.edu/wp-content/uploads/2025/01/Scholarship-Tuesdays.jpg
END:VEVENT
BEGIN:VEVENT
DTSTART;TZID=America/New_York:20250216T130000
DTEND;TZID=America/New_York:20250216T143000
DTSTAMP:20260419T132048
CREATED:20250130T203903Z
LAST-MODIFIED:20250203T155031Z
UID:16544-1739710800-1739716200@www.fmu.edu
SUMMARY:BHM 2025 Worship Service
DESCRIPTION:Join us as we continue Black History Month with a soulful worship service honoring our heritage.
URL:https://www.fmu.edu/fmu-event/bhm-2025-worship-service-2/
LOCATION:Susie C. Holley Religious Center\, 15800 NW 42 Avenue\, Miami Gardens\, FL\, 33054\, United States
CATEGORIES:Black History Month
ATTACH;FMTTYPE=image/jpeg:https://www.fmu.edu/wp-content/uploads/2025/01/Campus-Ministries_WEB.jpg
END:VEVENT
BEGIN:VEVENT
DTSTART;TZID=America/New_York:20250216T093000
DTEND;TZID=America/New_York:20250216T120000
DTSTAMP:20260419T132048
CREATED:20250130T203732Z
LAST-MODIFIED:20250130T203732Z
UID:16540-1739698200-1739707200@www.fmu.edu
SUMMARY:Ambassador Chorale Performance
DESCRIPTION:Experience the inspiring melodies of the Ambassador Chorale.
URL:https://www.fmu.edu/fmu-event/ambassador-chorale-performance-2/
LOCATION:Mt. Hermon AME Church\, 17800 NW 25th Ave\, Miami Gardens\, 33056\, United States
CATEGORIES:Black History Month
END:VEVENT
BEGIN:VEVENT
DTSTART;TZID=America/New_York:20250213T180000
DTEND;TZID=America/New_York:20250213T210000
DTSTAMP:20260419T132048
CREATED:20250130T203031Z
LAST-MODIFIED:20250211T170959Z
UID:16531-1739469600-1739480400@www.fmu.edu
SUMMARY:Love Thyself Ball
DESCRIPTION:Celebrate self-love and Black excellence at the Love Thy Self Ball with music\, food\, and a heartfelt presentation on self-love\, hosted in partnership with SGA and the Royal Court.
URL:https://www.fmu.edu/fmu-event/love-thyself-ball/
LOCATION:J.C. Sams Student Activity Center
CATEGORIES:Black History Month
ATTACH;FMTTYPE=image/jpeg:https://www.fmu.edu/wp-content/uploads/2025/01/Love-Thyself-Ball-WEB.jpg
END:VEVENT
BEGIN:VEVENT
DTSTART;TZID=America/New_York:20250212T110000
DTEND;TZID=America/New_York:20250212T120000
DTSTAMP:20260419T132048
CREATED:20250130T203423Z
LAST-MODIFIED:20250130T203539Z
UID:16537-1739358000-1739361600@www.fmu.edu
SUMMARY:Panel Discussion: The Role of Spirituality and Religion in African American History
DESCRIPTION:Explore the deep connection between faith\, resilience\, and African American historical progress.
URL:https://www.fmu.edu/fmu-event/panel-discussion-the-role-of-spirituality-and-religion-in-african-american-history/
LOCATION:Lehman Auditorium
CATEGORIES:Black History Month
END:VEVENT
BEGIN:VEVENT
DTSTART;TZID=America/New_York:20250211T090000
DTEND;TZID=America/New_York:20250211T160000
DTSTAMP:20260419T132048
CREATED:20250130T205122Z
LAST-MODIFIED:20250130T210507Z
UID:16562-1739264400-1739289600@www.fmu.edu
SUMMARY:Empowerment Through Education: Black History Scholarship Tuesday
DESCRIPTION:Join us every Tuesday in February to explore scholarship opportunities that celebrate and support Black excellence and education powered by the United Negro College Fund. \nUNCF is the nation’s largest and most effective minority education organization and has raised billions to help more than 500\,000 students to earn their college degrees through scholarships over the past 70 years. \nThere are four scholarship application sites on campus\, and these general scholarships are open to all undergraduate students pursuing academic excellence here at FMU. \nHere are the locations of the application sites. \n\nWriting Lab\, Sarah Blocker Building\, Room 101\nMath Lab\, Sarah Blocker Building\, Room 102\nTesting Lab\, Sarah Blocker Building\, Room 105\nStudent Career Center\, William Lehman Aviation Building\, Room 107\n\nClick Here to apply now
URL:https://www.fmu.edu/fmu-event/empowerment-through-education-black-history-scholarship-tuesday-2/
LOCATION:Florida Memorial University\, 15800 NW 42nd Ave.\, Miami Gardens\, 33054\, United States
CATEGORIES:Black History Month
ATTACH;FMTTYPE=image/jpeg:https://www.fmu.edu/wp-content/uploads/2025/01/Scholarship-Tuesdays.jpg
END:VEVENT
BEGIN:VEVENT
DTSTART;TZID=America/New_York:20250209T130000
DTEND;TZID=America/New_York:20250209T143000
DTSTAMP:20260419T132048
CREATED:20250130T203208Z
LAST-MODIFIED:20250203T154935Z
UID:16533-1739106000-1739111400@www.fmu.edu
SUMMARY:BHM 2025 Worship Service
DESCRIPTION:Join us as we continue Black History Month with a soulful worship service honoring our heritage.
URL:https://www.fmu.edu/fmu-event/bhm-2025-worship-service/
LOCATION:Susie C. Holley Religious Center\, 15800 NW 42 Avenue\, Miami Gardens\, FL\, 33054\, United States
CATEGORIES:Black History Month
ATTACH;FMTTYPE=image/jpeg:https://www.fmu.edu/wp-content/uploads/2025/01/Campus-Ministries_WEB.jpg
END:VEVENT
BEGIN:VEVENT
DTSTART;TZID=America/New_York:20250209T100000
DTEND;TZID=America/New_York:20250209T120000
DTSTAMP:20260419T132048
CREATED:20250130T202515Z
LAST-MODIFIED:20250130T202844Z
UID:16523-1739095200-1739102400@www.fmu.edu
SUMMARY:Ambassador Chorale Performance
DESCRIPTION:Experience the inspiring melodies of the Ambassador Chorale.
URL:https://www.fmu.edu/fmu-event/ambassador-chorale-performance/
LOCATION:St. James AME Church\, 795 South 4th Avenue\, Bartow\, 33830\, United States
CATEGORIES:Black History Month
ATTACH;FMTTYPE=image/jpeg:https://www.fmu.edu/wp-content/uploads/2025/01/Celendar_BHM2025.jpg
END:VEVENT
BEGIN:VEVENT
DTSTART;TZID=America/New_York:20250205T120000
DTEND;TZID=America/New_York:20250205T130000
DTSTAMP:20260419T132048
CREATED:20250130T201835Z
LAST-MODIFIED:20250130T201919Z
UID:16520-1738756800-1738760400@www.fmu.edu
SUMMARY:State of the Black Union
DESCRIPTION:Engage in critical discussions on the current state of Black unity\, leadership\, and progress.
URL:https://www.fmu.edu/fmu-event/state-of-the-black-union/
LOCATION:FMU Auditorium
CATEGORIES:Black History Month
END:VEVENT
BEGIN:VEVENT
DTSTART;TZID=America/New_York:20250204T090000
DTEND;TZID=America/New_York:20250204T160000
DTSTAMP:20260419T132048
CREATED:20250130T205022Z
LAST-MODIFIED:20250130T210442Z
UID:16560-1738659600-1738684800@www.fmu.edu
SUMMARY:Empowerment Through Education: Black History Scholarship Tuesday
DESCRIPTION:Join us every Tuesday in February to explore scholarship opportunities that celebrate and support Black excellence and education powered by the United Negro College Fund. \nUNCF is the nation’s largest and most effective minority education organization and has raised billions to help more than 500\,000 students to earn their college degrees through scholarships over the past 70 years. \nThere are four scholarship application sites on campus\, and these general scholarships are open to all undergraduate students pursuing academic excellence here at FMU. \nHere are the locations of the application sites. \n\nWriting Lab\, Sarah Blocker Building\, Room 101\nMath Lab\, Sarah Blocker Building\, Room 102\nTesting Lab\, Sarah Blocker Building\, Room 105\nStudent Career Center\, William Lehman Aviation Building\, Room 107\n\nClick Here to apply now
URL:https://www.fmu.edu/fmu-event/empowerment-through-education-black-history-scholarship-tuesday/
LOCATION:Florida Memorial University\, 15800 NW 42nd Ave.\, Miami Gardens\, 33054\, United States
CATEGORIES:Black History Month
ATTACH;FMTTYPE=image/jpeg:https://www.fmu.edu/wp-content/uploads/2025/01/Scholarship-Tuesdays.jpg
END:VEVENT
BEGIN:VEVENT
DTSTART;TZID=America/New_York:20250202T130000
DTEND;TZID=America/New_York:20250202T143000
DTSTAMP:20260419T132048
CREATED:20250130T200509Z
LAST-MODIFIED:20250203T155105Z
UID:16514-1738501200-1738506600@www.fmu.edu
SUMMARY:BHM 2025 Opening Worship Service
DESCRIPTION:Join us as we kick off Black History Month with a soulful worship service honoring our heritage.
URL:https://www.fmu.edu/fmu-event/bhm-2025-opening-worship-service/
LOCATION:Susie C. Holley Religious Center\, 15800 NW 42 Avenue\, Miami Gardens\, FL\, 33054\, United States
CATEGORIES:Black History Month,Campus Ministry
ATTACH;FMTTYPE=image/jpeg:https://www.fmu.edu/wp-content/uploads/2025/01/Campus-Ministries_WEB.jpg
END:VEVENT
END:VCALENDAR