BEGIN:VCALENDAR
VERSION:2.0
PRODID:-//Florida Memorial University - ECPv6.15.20//NONSGML v1.0//EN
CALSCALE:GREGORIAN
METHOD:PUBLISH
X-ORIGINAL-URL:https://www.fmu.edu
X-WR-CALDESC:Events for Florida Memorial University
REFRESH-INTERVAL;VALUE=DURATION:PT1H
X-Robots-Tag:noindex
X-PUBLISHED-TTL:PT1H
BEGIN:VTIMEZONE
TZID:America/New_York
BEGIN:DAYLIGHT
TZOFFSETFROM:-0500
TZOFFSETTO:-0400
TZNAME:EDT
DTSTART:20240310T070000
END:DAYLIGHT
BEGIN:STANDARD
TZOFFSETFROM:-0400
TZOFFSETTO:-0500
TZNAME:EST
DTSTART:20241103T060000
END:STANDARD
BEGIN:DAYLIGHT
TZOFFSETFROM:-0500
TZOFFSETTO:-0400
TZNAME:EDT
DTSTART:20250309T070000
END:DAYLIGHT
BEGIN:STANDARD
TZOFFSETFROM:-0400
TZOFFSETTO:-0500
TZNAME:EST
DTSTART:20251102T060000
END:STANDARD
BEGIN:DAYLIGHT
TZOFFSETFROM:-0500
TZOFFSETTO:-0400
TZNAME:EDT
DTSTART:20260308T070000
END:DAYLIGHT
BEGIN:STANDARD
TZOFFSETFROM:-0400
TZOFFSETTO:-0500
TZNAME:EST
DTSTART:20261101T060000
END:STANDARD
END:VTIMEZONE
BEGIN:VEVENT
DTSTART;TZID=America/New_York:20251017T120000
DTEND;TZID=America/New_York:20251017T140000
DTSTAMP:20260421T133040
CREATED:20240524T143210Z
LAST-MODIFIED:20251008T143754Z
UID:13879-1760702400-1760709600@www.fmu.edu
SUMMARY:Annual Homecoming Alumni Luncheon
DESCRIPTION:Friday\, October 17\, 2025\n12:00 P.M. – 2:00 P.M.\nSmith Conference Center\nTickets: $50.00 per person
URL:https://www.fmu.edu/fmu-event/annual-homecoming-alumni-luncheon/
LOCATION:Florida Memorial University Smith Conference Center\, 15800 NW 42 Avenue\, Miami Gardens\, FL\, 33054\, United States
CATEGORIES:FMU National Alumni Association,Homecoming
ATTACH;FMTTYPE=image/jpeg:https://www.fmu.edu/wp-content/uploads/Annual-Alumni-Luncheon-2025-scaled.jpg
END:VEVENT
END:VCALENDAR