BEGIN:VCALENDAR
VERSION:2.0
PRODID:-//Florida Memorial University - ECPv6.15.20//NONSGML v1.0//EN
CALSCALE:GREGORIAN
METHOD:PUBLISH
X-WR-CALNAME:Florida Memorial University
X-ORIGINAL-URL:https://www.fmu.edu
X-WR-CALDESC:Events for Florida Memorial University
REFRESH-INTERVAL;VALUE=DURATION:PT1H
X-Robots-Tag:noindex
X-PUBLISHED-TTL:PT1H
BEGIN:VTIMEZONE
TZID:America/New_York
BEGIN:DAYLIGHT
TZOFFSETFROM:-0500
TZOFFSETTO:-0400
TZNAME:EDT
DTSTART:20240310T070000
END:DAYLIGHT
BEGIN:STANDARD
TZOFFSETFROM:-0400
TZOFFSETTO:-0500
TZNAME:EST
DTSTART:20241103T060000
END:STANDARD
BEGIN:DAYLIGHT
TZOFFSETFROM:-0500
TZOFFSETTO:-0400
TZNAME:EDT
DTSTART:20250309T070000
END:DAYLIGHT
BEGIN:STANDARD
TZOFFSETFROM:-0400
TZOFFSETTO:-0500
TZNAME:EST
DTSTART:20251102T060000
END:STANDARD
BEGIN:DAYLIGHT
TZOFFSETFROM:-0500
TZOFFSETTO:-0400
TZNAME:EDT
DTSTART:20260308T070000
END:DAYLIGHT
BEGIN:STANDARD
TZOFFSETFROM:-0400
TZOFFSETTO:-0500
TZNAME:EST
DTSTART:20261101T060000
END:STANDARD
END:VTIMEZONE
BEGIN:VEVENT
DTSTART;VALUE=DATE:20251012
DTEND;VALUE=DATE:20251019
DTSTAMP:20260421T093219
CREATED:20250515T195523Z
LAST-MODIFIED:20250515T195523Z
UID:18480-1760227200-1760831999@www.fmu.edu
SUMMARY:Homecoming Week
DESCRIPTION:
URL:https://www.fmu.edu/fmu-event/homecoming-week-2/
LOCATION:Florida Memorial University\, 15800 NW 42nd Ave.\, Miami Gardens\, 33054\, United States
CATEGORIES:Homecoming
ATTACH;FMTTYPE=image/jpeg:https://www.fmu.edu/wp-content/uploads/2025/05/HC-2025-Save-the-Date-Student.jpg
END:VEVENT
BEGIN:VEVENT
DTSTART;TZID=America/New_York:20251016T110000
DTEND;TZID=America/New_York:20251016T130000
DTSTAMP:20260421T093219
CREATED:20250929T185552Z
LAST-MODIFIED:20250929T185552Z
UID:20946-1760612400-1760619600@www.fmu.edu
SUMMARY:FMU Aviation Alumni Day
DESCRIPTION:Thursday\, October 16\, 2025\n11:00 AM\nFMU Aviation Alumni Day\nLocation: Blacks in Aviation Museum – 3rd Floor William Lehman Building
URL:https://www.fmu.edu/fmu-event/fmu-aviation-alumni-day/
LOCATION:Florida Memorial University\, 15800 NW 42nd Ave.\, Miami Gardens\, 33054\, United States
CATEGORIES:Homecoming
END:VEVENT
BEGIN:VEVENT
DTSTART;TZID=America/New_York:20251016T180000
DTEND;TZID=America/New_York:20251016T220000
DTSTAMP:20260421T093219
CREATED:20250929T183952Z
LAST-MODIFIED:20251008T143919Z
UID:20927-1760637600-1760652000@www.fmu.edu
SUMMARY:Alumni Homecoming Fish Fry and Yard Show
DESCRIPTION:Date: Thursday\, October 16\, 2025\nTime: 6:00 P.M. – 10:00 P.M.\nLocation: 15800 NW 42nd Avenue – Miami Gardens\, FL 33054\nBYOT (Bring Your Own Tent) \nAdmission: \n\nAlumni – $10.00\nStudents – Free (FMU ID Required)\n\nVendor Space Rental Only: \n\n10×10 Tent Space – $150.00 (Bring Your Own Tent up to 12×12)\nFood Truck Space – $200.00\nVendor Set Up Time – 4:30 P.M.\n\n»  Admission and Vendor Payments: CLICK HERE
URL:https://www.fmu.edu/fmu-event/alumni-homecoming-fish-fry-and-yard-show/
LOCATION:Florida Memorial University\, 15800 NW 42nd Ave.\, Miami Gardens\, 33054\, United States
CATEGORIES:Homecoming
ATTACH;FMTTYPE=image/jpeg:https://www.fmu.edu/wp-content/uploads/2025/10/2025_Alumni_Fish_Fry_Yard_Show_flyer2.jpg
END:VEVENT
END:VCALENDAR