BEGIN:VCALENDAR
VERSION:2.0
PRODID:-//Florida Memorial University - ECPv6.15.20//NONSGML v1.0//EN
CALSCALE:GREGORIAN
METHOD:PUBLISH
X-WR-CALNAME:Florida Memorial University
X-ORIGINAL-URL:https://www.fmu.edu
X-WR-CALDESC:Events for Florida Memorial University
REFRESH-INTERVAL;VALUE=DURATION:PT1H
X-Robots-Tag:noindex
X-PUBLISHED-TTL:PT1H
BEGIN:VTIMEZONE
TZID:America/New_York
BEGIN:DAYLIGHT
TZOFFSETFROM:-0500
TZOFFSETTO:-0400
TZNAME:EDT
DTSTART:20240310T070000
END:DAYLIGHT
BEGIN:STANDARD
TZOFFSETFROM:-0400
TZOFFSETTO:-0500
TZNAME:EST
DTSTART:20241103T060000
END:STANDARD
BEGIN:DAYLIGHT
TZOFFSETFROM:-0500
TZOFFSETTO:-0400
TZNAME:EDT
DTSTART:20250309T070000
END:DAYLIGHT
BEGIN:STANDARD
TZOFFSETFROM:-0400
TZOFFSETTO:-0500
TZNAME:EST
DTSTART:20251102T060000
END:STANDARD
BEGIN:DAYLIGHT
TZOFFSETFROM:-0500
TZOFFSETTO:-0400
TZNAME:EDT
DTSTART:20260308T070000
END:DAYLIGHT
BEGIN:STANDARD
TZOFFSETFROM:-0400
TZOFFSETTO:-0500
TZNAME:EST
DTSTART:20261101T060000
END:STANDARD
END:VTIMEZONE
BEGIN:VEVENT
DTSTART;VALUE=DATE:20251012
DTEND;VALUE=DATE:20251019
DTSTAMP:20260421T093218
CREATED:20250515T195523Z
LAST-MODIFIED:20250515T195523Z
UID:18480-1760227200-1760831999@www.fmu.edu
SUMMARY:Homecoming Week
DESCRIPTION:
URL:https://www.fmu.edu/fmu-event/homecoming-week-2/
LOCATION:Florida Memorial University\, 15800 NW 42nd Ave.\, Miami Gardens\, 33054\, United States
CATEGORIES:Homecoming
ATTACH;FMTTYPE=image/jpeg:https://www.fmu.edu/wp-content/uploads/2025/05/HC-2025-Save-the-Date-Student.jpg
END:VEVENT
BEGIN:VEVENT
DTSTART;TZID=America/New_York:20251018T130000
DTEND;TZID=America/New_York:20251018T150000
DTSTAMP:20260421T093218
CREATED:20250929T184428Z
LAST-MODIFIED:20250929T184428Z
UID:20929-1760792400-1760799600@www.fmu.edu
SUMMARY:Homecoming Football Game
DESCRIPTION:Saturday\, October 18\, 2025\n1:00 PM\nLocation: Betty T. Ferguson Recreational Complex – 3000 NW 199th St.\, Miami Gardens\, FL 33056\nTailgate starts at 9:30 AM
URL:https://www.fmu.edu/fmu-event/homecoming-football-game/
LOCATION:Betty T. Ferguson Stadium\, 3000 NW 199th St.\, Miami Gardens\, FL\, 33056
CATEGORIES:Homecoming
END:VEVENT
BEGIN:VEVENT
DTSTART;TZID=America/New_York:20251018T160000
DTEND;TZID=America/New_York:20251018T180000
DTSTAMP:20260421T093218
CREATED:20250929T184630Z
LAST-MODIFIED:20250929T184630Z
UID:20931-1760803200-1760810400@www.fmu.edu
SUMMARY:Post Tailgate-Presidential Celebration
DESCRIPTION:Saturday\, October 18\, 2025\n4:00 PM\nBaseball Field Parking Lot
URL:https://www.fmu.edu/fmu-event/post-tailgate-presidential-celebration/
LOCATION:Baseball Field Parking Lot\, 15800 N.W. 42nd Avenue\, Miami Gardens\, FL\, 33054\, United States
CATEGORIES:Homecoming
END:VEVENT
BEGIN:VEVENT
DTSTART;TZID=America/New_York:20251018T160000
DTEND;TZID=America/New_York:20251018T180000
DTSTAMP:20260421T093218
CREATED:20250929T184858Z
LAST-MODIFIED:20250929T184858Z
UID:20934-1760803200-1760810400@www.fmu.edu
SUMMARY:FMUNAA Overtime Experience
DESCRIPTION:Saturday\, October 18\, 2025\n4:00 PM\nLocation: Betty T. Ferguson Recreational Amphitheater – 3000 NW 199th St.\, Miami Gardens\, FL 33056
URL:https://www.fmu.edu/fmu-event/fmunaa-overtime-experience/
LOCATION:Betty T. Ferguson Recreational Amphitheater\, 3000 NW 199th St.\, Miami Gardens\, FL\, 33056\, United States
CATEGORIES:Homecoming
END:VEVENT
END:VCALENDAR