BEGIN:VCALENDAR
VERSION:2.0
PRODID:-//Florida Memorial University - ECPv6.15.20//NONSGML v1.0//EN
CALSCALE:GREGORIAN
METHOD:PUBLISH
X-WR-CALNAME:Florida Memorial University
X-ORIGINAL-URL:https://www.fmu.edu
X-WR-CALDESC:Events for Florida Memorial University
REFRESH-INTERVAL;VALUE=DURATION:PT1H
X-Robots-Tag:noindex
X-PUBLISHED-TTL:PT1H
BEGIN:VTIMEZONE
TZID:America/New_York
BEGIN:DAYLIGHT
TZOFFSETFROM:-0500
TZOFFSETTO:-0400
TZNAME:EDT
DTSTART:20240310T070000
END:DAYLIGHT
BEGIN:STANDARD
TZOFFSETFROM:-0400
TZOFFSETTO:-0500
TZNAME:EST
DTSTART:20241103T060000
END:STANDARD
BEGIN:DAYLIGHT
TZOFFSETFROM:-0500
TZOFFSETTO:-0400
TZNAME:EDT
DTSTART:20250309T070000
END:DAYLIGHT
BEGIN:STANDARD
TZOFFSETFROM:-0400
TZOFFSETTO:-0500
TZNAME:EST
DTSTART:20251102T060000
END:STANDARD
BEGIN:DAYLIGHT
TZOFFSETFROM:-0500
TZOFFSETTO:-0400
TZNAME:EDT
DTSTART:20260308T070000
END:DAYLIGHT
BEGIN:STANDARD
TZOFFSETFROM:-0400
TZOFFSETTO:-0500
TZNAME:EST
DTSTART:20261101T060000
END:STANDARD
END:VTIMEZONE
BEGIN:VEVENT
DTSTART;TZID=America/New_York:20250311T110000
DTEND;TZID=America/New_York:20250311T120000
DTSTAMP:20260421T145054
CREATED:20250212T151034Z
LAST-MODIFIED:20250212T182305Z
UID:17002-1741690800-1741694400@www.fmu.edu
SUMMARY:SGA Town Hall Meeting
DESCRIPTION:
URL:https://www.fmu.edu/fmu-event/sga-town-hall-meeting/
LOCATION:J.C. Sams Multipurpose Room
CATEGORIES:SGA
ATTACH;FMTTYPE=image/jpeg:https://www.fmu.edu/wp-content/uploads/2025/02/SGA-Town-Hall-Meeting_WEB.jpg
END:VEVENT
BEGIN:VEVENT
DTSTART;TZID=America/New_York:20250128T110000
DTEND;TZID=America/New_York:20250128T120000
DTSTAMP:20260421T145054
CREATED:20250125T015139Z
LAST-MODIFIED:20250125T015139Z
UID:16269-1738062000-1738065600@www.fmu.edu
SUMMARY:SGA Cabinet Meeting
DESCRIPTION:
URL:https://www.fmu.edu/fmu-event/sga-cabinet-meeting/
LOCATION:J.C. Sams Multipurpose Room
CATEGORIES:SGA
END:VEVENT
END:VCALENDAR